Workbook
Name _Hlk35432306: Ficha!#REF!
Name _Hlk35432352: Ficha!#REF!
Name Area_de_impressao1: Ficha!$A$1:$G$40
Name Area_de_impressao2: Ficha!$I$1:$N$40
Name Area_de_impressao3: Ficha!$P$1:$U$40

Sheet Ficha
A1: JOGADOR: | I1: QUALIDADES | K1: Pontos | L1: DEFEITOS | N1: Pontos | P1: MAGIAS | Q1: Níveis | R1: Pontos | S1: ESPECIALIZAÇÕES | U1: Pontos
A2: PERSONAGEM: | Q2: ='Pagina de Calculo'!P34 -> 0
A3: APARENCIA/ PERSONALIDADE | Q3: ='Pagina de Calculo'!P35 -> 0
Q4: ='Pagina de Calculo'!P36 -> 0
Q5: ='Pagina de Calculo'!P37 -> 0
Q6: ='Pagina de Calculo'!P38 -> 0
Q7: ='Pagina de Calculo'!P39 -> 0
A8: ATRIBUTOS | G8: Pontos | Q8: ='Pagina de Calculo'!P40 -> 0
A9: Vitalidade | B9: 10 | D9: Pontos de Vida | E9: =B9+'Pagina de Calculo'!E19 -> 10 | G9: ='Pagina de Calculo'!C3 -> 0 | Q9: ='Pagina de Calculo'!P41 -> 0
A10: Destreza | B10: 10 | D10: Esquiva | E10: =INT(B10/2)+'Pericias e Magias'!M17 -> 5 | G10: ='Pagina de Calculo'!C4 -> 0 | Q10: ='Pagina de Calculo'!P42 -> 0
A11: Força | B11: 10 | D11: Fadiga | E11: =B11+'Pagina de Calculo'!E21 -> 10 | G11: ='Pagina de Calculo'!C5 -> 0 | Q11: ='Pagina de Calculo'!P43 -> 0
A12: Inteligência | B12: 10 | D12: Percepção | E12: =INT((B13+B12)/2) -> 10 | G12: ='Pagina de Calculo'!C6 -> 0 | Q12: ='Pagina de Calculo'!P44 -> 0
A13: Raciocínio | B13: 10 | G13: ='Pagina de Calculo'!C7 -> 0 | Q13: ='Pagina de Calculo'!P45 -> 0
A14: Vontade | B14: 10 | D14: Ressonância | E14: 0 | G14: ='Pagina de Calculo'!C8 -> 0 | Q14: ='Pagina de Calculo'!P46 -> 0
A15: Sorte | B15: 10 | D15: Pontos de Sorte | E15: =B15 -> 10 | G15: ='Pagina de Calculo'!C9 -> 0 | I15: PECULIARIDADES | Q15: ='Pagina de Calculo'!P47 -> 0
A16: Essência | B16: 10 | D16: Mana | E16: =B16+'Pagina de Calculo'!E20 -> 10 | G16: ='Pagina de Calculo'!C10 -> 0 | Q16: ='Pagina de Calculo'!P48 -> 0
A17: Carisma | B17: 10 | D17: Experiencia | E17: ='Pagina de Calculo'!U3 -> 0 | G17: ='Pagina de Calculo'!C11 -> 0 | Q17: ='Pagina de Calculo'!P49 -> 0
A18: PERÍCIAS | B18: Níveis | C18: Pontos | D18: ESPECIALIZAÇÕES | G18: Pontos | I18: CONHECIMENTOS | J18: Níveis | K18: Pontos | L18: DETALHES | Q18: ='Pagina de Calculo'!P50 -> 0
B19: ='Pagina de Calculo'!P3 -> 0 | J19: ='Pagina de Calculo'!F24 -> 0 | Q19: ='Pagina de Calculo'!P51 -> 0
B20: ='Pagina de Calculo'!P4 -> 0 | J20: ='Pagina de Calculo'!F25 -> 0 | Q20: ='Pagina de Calculo'!P52 -> 0
B21: ='Pagina de Calculo'!P5 -> 0 | J21: ='Pagina de Calculo'!F26 -> 0 | Q21: ='Pagina de Calculo'!P53 -> 0
B22: ='Pagina de Calculo'!P6 -> 0 | J22: ='Pagina de Calculo'!F27 -> 0 | Q22: ='Pagina de Calculo'!P54 -> 0
B23: ='Pagina de Calculo'!P7 -> 0 | J23: ='Pagina de Calculo'!F28 -> 0 | Q23: ='Pagina de Calculo'!P55 -> 0
B24: ='Pagina de Calculo'!P8 -> 0 | J24: ='Pagina de Calculo'!F29 -> 0 | Q24: ='Pagina de Calculo'!P56 -> 0
B25: ='Pagina de Calculo'!P9 -> 0 | J25: ='Pagina de Calculo'!F30 -> 0 | Q25: ='Pagina de Calculo'!P57 -> 0
B26: ='Pagina de Calculo'!P10 -> 0 | J26: ='Pagina de Calculo'!F31 -> 0 | Q26: ='Pagina de Calculo'!P58 -> 0
B27: ='Pagina de Calculo'!P11 -> 0 | J27: ='Pagina de Calculo'!F32 -> 0 | Q27: ='Pagina de Calculo'!P59 -> 0
B28: ='Pagina de Calculo'!P12 -> 0 | I28: INVENTÁRIO | P28: ARCANO | R28: Pontos | S28: CARMA
B29: ='Pagina de Calculo'!P13 -> 0 | I29: Item | K29: Qnt | L29: Item | N29: Qnt
B30: ='Pagina de Calculo'!P14 -> 0
B31: ='Pagina de Calculo'!P15 -> 0
B32: ='Pagina de Calculo'!P16 -> 0
B33: ='Pagina de Calculo'!P17 -> 0
B34: ='Pagina de Calculo'!P18 -> 0
B35: ='Pagina de Calculo'!P19 -> 0
B36: ='Pagina de Calculo'!P20 -> 0
B37: ='Pagina de Calculo'!P21 -> 0
B38: ='Pagina de Calculo'!P22 -> 0
B39: ='Pagina de Calculo'!P23 -> 0
B40: ='Pagina de Calculo'!P24 -> 0

Sheet Pericias e Magias
B2: Pericias | C2: Atributo | D2: Metade/Inteiro | E2: Bonus | G2: Magias | H2: Atributo | I2: Metade/Inteiro | J2: Bonus | L2: Conhecimento | M2: Atributo | N2: Bonus
B3: =Ficha!A19 -> 0 | C3: Inteligência | D3: 0.5 | E3: 0 | G3: =Ficha!P2 -> 0 | H3: Inteligência | I3: 0.5 | J3: 0 | L3: =Ficha!I19 -> 0 | M3: Inteligência | N3: 0
B4: =Ficha!A20 -> 0 | C4: Inteligência | D4: 0.5 | E4: 0 | G4: =Ficha!P3 -> 0 | H4: Inteligência | I4: 0.5 | J4: 0 | L4: =Ficha!I20 -> 0 | M4: Inteligência | N4: 0
B5: =Ficha!A21 -> 0 | C5: Inteligência | D5: 0.5 | E5: 0 | G5: =Ficha!P4 -> 0 | H5: Inteligência | I5: 0.5 | J5: 0 | L5: =Ficha!I21 -> 0 | M5: Inteligência | N5: 0
B6: =Ficha!A22 -> 0 | C6: Inteligência | D6: 0.5 | E6: 0 | G6: =Ficha!P5 -> 0 | H6: Inteligência | I6: 0.5 | J6: 0 | L6: =Ficha!I22 -> 0 | M6: Inteligência | N6: 0
B7: =Ficha!A23 -> 0 | C7: Inteligência | D7: 0.5 | E7: 0 | G7: =Ficha!P6 -> 0 | H7: Inteligência | I7: 0.5 | J7: 0 | L7: =Ficha!I23 -> 0 | M7: Inteligência | N7: 0
B8: =Ficha!A24 -> 0 | C8: Inteligência | D8: 0.5 | E8: 0 | G8: =Ficha!P7 -> 0 | H8: Inteligência | I8: 0.5 | J8: 0 | L8: =Ficha!I24 -> 0 | M8: Inteligência | N8: 0
B9: =Ficha!A25 -> 0 | C9: Inteligência | D9: 0.5 | E9: 0 | G9: =Ficha!P8 -> 0 | H9: Inteligência | I9: 0.5 | J9: 0 | L9: =Ficha!I25 -> 0 | M9: Inteligência | N9: 0
B10: =Ficha!A26 -> 0 | C10: Inteligência | D10: 0.5 | E10: 0 | G10: =Ficha!P9 -> 0 | H10: Inteligência | I10: 0.5 | J10: 0 | L10: =Ficha!I26 -> 0 | M10: Inteligência | N10: 0
B11: =Ficha!A27 -> 0 | C11: Inteligência | D11: 0.5 | E11: 0 | G11: =Ficha!P10 -> 0 | H11: Inteligência | I11: 0.5 | J11: 0 | L11: =Ficha!I27 -> 0 | M11: Inteligência | N11: 0
B12: =Ficha!A28 -> 0 | C12: Inteligência | D12: 0.5 | E12: 0 | G12: =Ficha!P11 -> 0 | H12: Inteligência | I12: 0.5 | J12: 0
B13: =Ficha!A29 -> 0 | C13: Inteligência | D13: 0.5 | E13: 0 | G13: =Ficha!P12 -> 0 | H13: Inteligência | I13: 0.5 | J13: 0 | M13: Nivel
B14: =Ficha!A30 -> 0 | C14: Inteligência | D14: 0.5 | E14: 0 | G14: =Ficha!P13 -> 0 | H14: Inteligência | I14: 0.5 | J14: 0 | L14: Vida Extra | M14: 0
B15: =Ficha!A31 -> 0 | C15: Inteligência | D15: 0.5 | E15: 0 | G15: =Ficha!P14 -> 0 | H15: Inteligência | I15: 0.5 | J15: 0 | L15: Mana Extra | M15: 0
B16: =Ficha!A32 -> 0 | C16: Inteligência | D16: 0.5 | E16: 0 | G16: =Ficha!P15 -> 0 | H16: Inteligência | I16: 0.5 | J16: 0 | L16: Fadiga Extra | M16: 0
B17: =Ficha!A33 -> 0 | C17: Inteligência | D17: 0.5 | E17: 0 | G17: =Ficha!P16 -> 0 | H17: Inteligência | I17: 0.5 | J17: 0 | L17: Esquiva Bônus | M17: 0
B18: =Ficha!A34 -> 0 | C18: Inteligência | D18: 0.5 | E18: 0 | G18: =Ficha!P17 -> 0 | H18: Inteligência | I18: 0.5 | J18: 0
B19: =Ficha!A35 -> 0 | C19: Inteligência | D19: 0.5 | E19: 0 | G19: =Ficha!P18 -> 0 | H19: Inteligência | I19: 0.5 | J19: 0
B20: =Ficha!A36 -> 0 | C20: Inteligência | D20: 0.5 | E20: 0 | G20: =Ficha!P19 -> 0 | H20: Inteligência | I20: 0.5 | J20: 0
B21: =Ficha!A37 -> 0 | C21: Inteligência | D21: 0.5 | E21: 0 | G21: =Ficha!P20 -> 0 | H21: Inteligência | I21: 0.5 | J21: 0
B22: =Ficha!A38 -> 0 | C22: Inteligência | D22: 0.5 | E22: 0 | G22: =Ficha!P21 -> 0 | H22: Inteligência | I22: 0.5 | J22: 0
B23: =Ficha!A39 -> 0 | C23: Inteligência | D23: 0.5 | E23: 0 | G23: =Ficha!P22 -> 0 | H23: Inteligência | I23: 0.5 | J23: 0
B24: =Ficha!A40 -> 0 | C24: Inteligência | D24: 0.5 | E24: 0 | G24: =Ficha!P23 -> 0 | H24: Inteligência | I24: 0.5 | J24: 0
B25: =Ficha!A41 -> 0 | C25: Inteligência | D25: 0.5 | E25: 0 | G25: =Ficha!P24 -> 0 | H25: Inteligência | I25: 0.5 | J25: 0
B26: =Ficha!A42 -> 0 | C26: Inteligência | D26: 0.5 | E26: 0 | G26: =Ficha!P25 -> 0 | H26: Inteligência | I26: 0.5 | J26: 0
B27: =Ficha!A43 -> 0 | C27: Inteligência | D27: 0.5 | E27: 0 | G27: =Ficha!P26 -> 0 | H27: Inteligência | I27: 0.5 | J27: 0
B28: =Ficha!A44 -> 0 | C28: Inteligência | D28: 0.5 | E28: 0 | G28: =Ficha!P27 -> 0 | H28: Inteligência | I28: 0.5 | J28: 0

Sheet Pagina de Calculo
A2: Atributos | C2: Pontos | D2: Defeitos | E2: Pontos | F2: Qualidades | G2: Pontos | H2: Arcano | I2: Pontos | J2: Pericias | K2: Atributo | L2: Metade/Inteiro | M2: Base | N2: Exp | O2: Bonus | P2: Total | Q2: Custo Base | R2: Especialização | S2: Pontos | U2: TOTAL | V2: 0.5
A3: =Ficha!A9 -> Vitalidade | B3: =Ficha!B9 -> 10 | C3: =(Ficha!B9-10)*10 -> 0 | D3: =Ficha!L2 -> 0 | E3: =Ficha!N2 -> 0 | F3: =Ficha!I2 -> 0 | G3: =Ficha!K2 -> 0 | H3: =Ficha!P29 -> 0 | I3: =Ficha!R29 -> 0 | J3: =Ficha!A19 -> 0 | K3: ='Pericias e Magias'!C3 -> Inteligência | L3: ='Pericias e Magias'!D3 -> 0.5 | M3: =INT(IF(K3=$A$3,Ficha!$B$9,IF(K3=$A$4,Ficha!$B$10,IF(K3=$A$5,Ficha!$B$11,IF(K3=$A$6,Ficha!$B$12,IF(K3=$A$7,Ficha!$B$13,IF(K3=$A$8,Ficha!$B$14,IF(K3=$A$9,Ficha!$B$15,IF(K3=$A$10,Ficha!$B$16,IF(K3=$A$11,Ficha!$B$17,0)))))))))*L3) -> 5 | N3: =Ficha!C19 -> 0 | O3: ='Pericias e Magias'!E3 -> 0 | P3: =IF(J3=0,0,M3+N3+O3) -> 0 | Q3: =IF(J3=0,0,IF(K3=$A$10,0,1)) -> 0 | R3: =Ficha!D19 -> 0 | S3: =Ficha!G19 -> 0 | U3: =C12+E15+G15+N29+Q29+S29+I20+N60+Q60+S60+D33 -> 0 | V3: 1
A4: =Ficha!A10 -> Destreza | B4: =Ficha!B10 -> 10 | C4: =(Ficha!B10-10)*10 -> 0 | D4: =Ficha!L3 -> 0 | E4: =Ficha!N3 -> 0 | F4: =Ficha!I3 -> 0 | G4: =Ficha!K3 -> 0 | H4: =Ficha!P30 -> 0 | I4: =Ficha!R30 -> 0 | J4: =Ficha!A20 -> 0 | K4: ='Pericias e Magias'!C4 -> Inteligência | L4: ='Pericias e Magias'!D4 -> 0.5 | M4: =INT(IF(K4=$A$3,Ficha!$B$9,IF(K4=$A$4,Ficha!$B$10,IF(K4=$A$5,Ficha!$B$11,IF(K4=$A$6,Ficha!$B$12,IF(K4=$A$7,Ficha!$B$13,IF(K4=$A$8,Ficha!$B$14,IF(K4=$A$9,Ficha!$B$15,IF(K4=$A$10,Ficha!$B$16,IF(K4=$A$11,Ficha!$B$17,0)))))))))*L4) -> 5 | N4: =Ficha!C20 -> 0 | O4: ='Pericias e Magias'!E4 -> 0 | P4: =IF(J4=0,0,M4+N4+O4) -> 0 | Q4: =IF(J4=0,0,IF(K4=$A$10,0,1)) -> 0 | R4: =Ficha!D20 -> 0 | S4: =Ficha!G20 -> 0
A5: =Ficha!A11 -> Força | B5: =Ficha!B11 -> 10 | C5: =(Ficha!B11-10)*10 -> 0 | D5: =Ficha!L4 -> 0 | E5: =Ficha!N4 -> 0 | F5: =Ficha!I4 -> 0 | G5: =Ficha!K4 -> 0 | H5: =Ficha!P31 -> 0 | I5: =Ficha!R31 -> 0 | J5: =Ficha!A21 -> 0 | K5: ='Pericias e Magias'!C5 -> Inteligência | L5: ='Pericias e Magias'!D5 -> 0.5 | M5: =INT(IF(K5=$A$3,Ficha!$B$9,IF(K5=$A$4,Ficha!$B$10,IF(K5=$A$5,Ficha!$B$11,IF(K5=$A$6,Ficha!$B$12,IF(K5=$A$7,Ficha!$B$13,IF(K5=$A$8,Ficha!$B$14,IF(K5=$A$9,Ficha!$B$15,IF(K5=$A$10,Ficha!$B$16,IF(K5=$A$11,Ficha!$B$17,0)))))))))*L5) -> 5 | N5: =Ficha!C21 -> 0 | O5: ='Pericias e Magias'!E5 -> 0 | P5: =IF(J5=0,0,M5+N5+O5) -> 0 | Q5: =IF(J5=0,0,IF(K5=$A$10,0,1)) -> 0 | R5: =Ficha!D21 -> 0 | S5: =Ficha!G21 -> 0
A6: =Ficha!A12 -> Inteligência | B6: =Ficha!B12 -> 10 | C6: =(Ficha!B12-10)*10 -> 0 | D6: =Ficha!L5 -> 0 | E6: =Ficha!N5 -> 0 | F6: =Ficha!I5 -> 0 | G6: =Ficha!K5 -> 0 | H6: =Ficha!P32 -> 0 | I6: =Ficha!R32 -> 0 | J6: =Ficha!A22 -> 0 | K6: ='Pericias e Magias'!C6 -> Inteligência | L6: ='Pericias e Magias'!D6 -> 0.5 | M6: =INT(IF(K6=$A$3,Ficha!$B$9,IF(K6=$A$4,Ficha!$B$10,IF(K6=$A$5,Ficha!$B$11,IF(K6=$A$6,Ficha!$B$12,IF(K6=$A$7,Ficha!$B$13,IF(K6=$A$8,Ficha!$B$14,IF(K6=$A$9,Ficha!$B$15,IF(K6=$A$10,Ficha!$B$16,IF(K6=$A$11,Ficha!$B$17,0)))))))))*L6) -> 5 | N6: =Ficha!C22 -> 0 | O6: ='Pericias e Magias'!E6 -> 0 | P6: =IF(J6=0,0,M6+N6+O6) -> 0 | Q6: =IF(J6=0,0,IF(K6=$A$10,0,1)) -> 0 | R6: =Ficha!D22 -> 0 | S6: =Ficha!G22 -> 0
A7: =Ficha!A13 -> Raciocínio | B7: =Ficha!B13 -> 10 | C7: =(Ficha!B13-10)*10 -> 0 | D7: =Ficha!L6 -> 0 | E7: =Ficha!N6 -> 0 | F7: =Ficha!I6 -> 0 | G7: =Ficha!K6 -> 0 | H7: =Ficha!P33 -> 0 | I7: =Ficha!R33 -> 0 | J7: =Ficha!A23 -> 0 | K7: ='Pericias e Magias'!C7 -> Inteligência | L7: ='Pericias e Magias'!D7 -> 0.5 | M7: =INT(IF(K7=$A$3,Ficha!$B$9,IF(K7=$A$4,Ficha!$B$10,IF(K7=$A$5,Ficha!$B$11,IF(K7=$A$6,Ficha!$B$12,IF(K7=$A$7,Ficha!$B$13,IF(K7=$A$8,Ficha!$B$14,IF(K7=$A$9,Ficha!$B$15,IF(K7=$A$10,Ficha!$B$16,IF(K7=$A$11,Ficha!$B$17,0)))))))))*L7) -> 5 | N7: =Ficha!C23 -> 0 | O7: ='Pericias e Magias'!E7 -> 0 | P7: =IF(J7=0,0,M7+N7+O7) -> 0 | Q7: =IF(J7=0,0,IF(K7=$A$10,0,1)) -> 0 | R7: =Ficha!D23 -> 0 | S7: =Ficha!G23 -> 0
A8: =Ficha!A14 -> Vontade | B8: =Ficha!B14 -> 10 | C8: =(Ficha!B14-10)*10 -> 0 | D8: =Ficha!L7 -> 0 | E8: =Ficha!N7 -> 0 | F8: =Ficha!I7 -> 0 | G8: =Ficha!K7 -> 0 | H8: =Ficha!P34 -> 0 | I8: =Ficha!R34 -> 0 | J8: =Ficha!A24 -> 0 | K8: ='Pericias e Magias'!C8 -> Inteligência | L8: ='Pericias e Magias'!D8 -> 0.5 | M8: =INT(IF(K8=$A$3,Ficha!$B$9,IF(K8=$A$4,Ficha!$B$10,IF(K8=$A$5,Ficha!$B$11,IF(K8=$A$6,Ficha!$B$12,IF(K8=$A$7,Ficha!$B$13,IF(K8=$A$8,Ficha!$B$14,IF(K8=$A$9,Ficha!$B$15,IF(K8=$A$10,Ficha!$B$16,IF(K8=$A$11,Ficha!$B$17,0)))))))))*L8) -> 5 | N8: =Ficha!C24 -> 0 | O8: ='Pericias e Magias'!E8 -> 0 | P8: =IF(J8=0,0,M8+N8+O8) -> 0 | Q8: =IF(J8=0,0,IF(K8=$A$10,0,1)) -> 0 | R8: =Ficha!D24 -> 0 | S8: =Ficha!G24 -> 0
A9: =Ficha!A15 -> Sorte | B9: =Ficha!B15 -> 10 | C9: =(Ficha!B15-10)*10 -> 0 | D9: =Ficha!L8 -> 0 | E9: =Ficha!N8 -> 0 | F9: =Ficha!I8 -> 0 | G9: =Ficha!K8 -> 0 | H9: =Ficha!P35 -> 0 | I9: =Ficha!R35 -> 0 | J9: =Ficha!A25 -> 0 | K9: ='Pericias e Magias'!C9 -> Inteligência | L9: ='Pericias e Magias'!D9 -> 0.5 | M9: =INT(IF(K9=$A$3,Ficha!$B$9,IF(K9=$A$4,Ficha!$B$10,IF(K9=$A$5,Ficha!$B$11,IF(K9=$A$6,Ficha!$B$12,IF(K9=$A$7,Ficha!$B$13,IF(K9=$A$8,Ficha!$B$14,IF(K9=$A$9,Ficha!$B$15,IF(K9=$A$10,Ficha!$B$16,IF(K9=$A$11,Ficha!$B$17,0)))))))))*L9) -> 5 | N9: =Ficha!C25 -> 0 | O9: ='Pericias e Magias'!E9 -> 0 | P9: =IF(J9=0,0,M9+N9+O9) -> 0 | Q9: =IF(J9=0,0,IF(K9=$A$10,0,1)) -> 0 | R9: =Ficha!D25 -> 0 | S9: =Ficha!G25 -> 0
A10: =Ficha!A16 -> Essência | B10: =Ficha!B16 -> 10 | C10: =(Ficha!B16-10)*10 -> 0 | D10: =Ficha!L9 -> 0 | E10: =Ficha!N9 -> 0 | F10: =Ficha!I9 -> 0 | G10: =Ficha!K9 -> 0 | H10: =Ficha!P36 -> 0 | I10: =Ficha!R36 -> 0 | J10: =Ficha!A26 -> 0 | K10: ='Pericias e Magias'!C10 -> Inteligência | L10: ='Pericias e Magias'!D10 -> 0.5 | M10: =INT(IF(K10=$A$3,Ficha!$B$9,IF(K10=$A$4,Ficha!$B$10,IF(K10=$A$5,Ficha!$B$11,IF(K10=$A$6,Ficha!$B$12,IF(K10=$A$7,Ficha!$B$13,IF(K10=$A$8,Ficha!$B$14,IF(K10=$A$9,Ficha!$B$15,IF(K10=$A$10,Ficha!$B$16,IF(K10=$A$11,Ficha!$B$17,0)))))))))*L10) -> 5 | N10: =Ficha!C26 -> 0 | O10: ='Pericias e Magias'!E10 -> 0 | P10: =IF(J10=0,0,M10+N10+O10) -> 0 | Q10: =IF(J10=0,0,IF(K10=$A$10,0,1)) -> 0 | R10: =Ficha!D26 -> 0 | S10: =Ficha!G26 -> 0
A11: =Ficha!A17 -> Carisma | B11: =Ficha!B17 -> 10 | C11: =(Ficha!B17-10)*10 -> 0 | D11: =Ficha!L10 -> 0 | E11: =Ficha!N10 -> 0 | F11: =Ficha!I10 -> 0 | G11: =Ficha!K10 -> 0 | H11: =Ficha!P37 -> 0 | I11: =Ficha!R37 -> 0 | J11: =Ficha!A27 -> 0 | K11: ='Pericias e Magias'!C11 -> Inteligência | L11: ='Pericias e Magias'!D11 -> 0.5 | M11: =INT(IF(K11=$A$3,Ficha!$B$9,IF(K11=$A$4,Ficha!$B$10,IF(K11=$A$5,Ficha!$B$11,IF(K11=$A$6,Ficha!$B$12,IF(K11=$A$7,Ficha!$B$13,IF(K11=$A$8,Ficha!$B$14,IF(K11=$A$9,Ficha!$B$15,IF(K11=$A$10,Ficha!$B$16,IF(K11=$A$11,Ficha!$B$17,0)))))))))*L11) -> 5 | N11: =Ficha!C27 -> 0 | O11: ='Pericias e Magias'!E11 -> 0 | P11: =IF(J11=0,0,M11+N11+O11) -> 0 | Q11: =IF(J11=0,0,IF(K11=$A$10,0,1)) -> 0 | R11: =Ficha!D27 -> 0 | S11: =Ficha!G27 -> 0
C12: =SUM(C3:C11) -> 0 | D12: =Ficha!L11 -> 0 | E12: =Ficha!N11 -> 0 | F12: =Ficha!I11 -> 0 | G12: =Ficha!K11 -> 0 | H12: =Ficha!P38 -> 0 | I12: =Ficha!R38 -> 0 | J12: =Ficha!A28 -> 0 | K12: ='Pericias e Magias'!C12 -> Inteligência | L12: ='Pericias e Magias'!D12 -> 0.5 | M12: =INT(IF(K12=$A$3,Ficha!$B$9,IF(K12=$A$4,Ficha!$B$10,IF(K12=$A$5,Ficha!$B$11,IF(K12=$A$6,Ficha!$B$12,IF(K12=$A$7,Ficha!$B$13,IF(K12=$A$8,Ficha!$B$14,IF(K12=$A$9,Ficha!$B$15,IF(K12=$A$10,Ficha!$B$16,IF(K12=$A$11,Ficha!$B$17,0)))))))))*L12) -> 5 | N12: =Ficha!C28 -> 0 | O12: ='Pericias e Magias'!E12 -> 0 | P12: =IF(J12=0,0,M12+N12+O12) -> 0 | Q12: =IF(J12=0,0,IF(K12=$A$10,0,1)) -> 0 | R12: =Ficha!D28 -> 0 | S12: =Ficha!G28 -> 0
D13: =Ficha!L12 -> 0 | E13: =Ficha!N12 -> 0 | F13: =Ficha!I12 -> 0 | G13: =Ficha!K12 -> 0 | H13: =Ficha!P39 -> 0 | I13: =Ficha!R39 -> 0 | J13: =Ficha!A29 -> 0 | K13: ='Pericias e Magias'!C13 -> Inteligência | L13: ='Pericias e Magias'!D13 -> 0.5 | M13: =INT(IF(K13=$A$3,Ficha!$B$9,IF(K13=$A$4,Ficha!$B$10,IF(K13=$A$5,Ficha!$B$11,IF(K13=$A$6,Ficha!$B$12,IF(K13=$A$7,Ficha!$B$13,IF(K13=$A$8,Ficha!$B$14,IF(K13=$A$9,Ficha!$B$15,IF(K13=$A$10,Ficha!$B$16,IF(K13=$A$11,Ficha!$B$17,0)))))))))*L13) -> 5 | N13: =Ficha!C29 -> 0 | O13: ='Pericias e Magias'!E13 -> 0 | P13: =IF(J13=0,0,M13+N13+O13) -> 0 | Q13: =IF(J13=0,0,IF(K13=$A$10,0,1)) -> 0 | R13: =Ficha!D29 -> 0 | S13: =Ficha!G29 -> 0
D14: =Ficha!L13 -> 0 | E14: =Ficha!N13 -> 0 | F14: =Ficha!I13 -> 0 | G14: =Ficha!K13 -> 0 | H14: =Ficha!P40 -> 0 | I14: =Ficha!R40 -> 0 | J14: =Ficha!A30 -> 0 | K14: ='Pericias e Magias'!C14 -> Inteligência | L14: ='Pericias e Magias'!D14 -> 0.5 | M14: =INT(IF(K14=$A$3,Ficha!$B$9,IF(K14=$A$4,Ficha!$B$10,IF(K14=$A$5,Ficha!$B$11,IF(K14=$A$6,Ficha!$B$12,IF(K14=$A$7,Ficha!$B$13,IF(K14=$A$8,Ficha!$B$14,IF(K14=$A$9,Ficha!$B$15,IF(K14=$A$10,Ficha!$B$16,IF(K14=$A$11,Ficha!$B$17,0)))))))))*L14) -> 5 | N14: =Ficha!C30 -> 0 | O14: ='Pericias e Magias'!E14 -> 0 | P14: =IF(J14=0,0,M14+N14+O14) -> 0 | Q14: =IF(J14=0,0,IF(K14=$A$10,0,1)) -> 0 | R14: =Ficha!D30 -> 0 | S14: =Ficha!G30 -> 0
D15: Soma | E15: =SUM(E3:E14) -> 0 | F15: Soma | G15: =SUM(G3:G14) -> 0 | H15: =Ficha!P41 -> 0 | I15: =Ficha!Q41 -> 0 | J15: =Ficha!A31 -> 0 | K15: ='Pericias e Magias'!C15 -> Inteligência | L15: ='Pericias e Magias'!D15 -> 0.5 | M15: =INT(IF(K15=$A$3,Ficha!$B$9,IF(K15=$A$4,Ficha!$B$10,IF(K15=$A$5,Ficha!$B$11,IF(K15=$A$6,Ficha!$B$12,IF(K15=$A$7,Ficha!$B$13,IF(K15=$A$8,Ficha!$B$14,IF(K15=$A$9,Ficha!$B$15,IF(K15=$A$10,Ficha!$B$16,IF(K15=$A$11,Ficha!$B$17,0)))))))))*L15) -> 5 | N15: =Ficha!C31 -> 0 | O15: ='Pericias e Magias'!E15 -> 0 | P15: =IF(J15=0,0,M15+N15+O15) -> 0 | Q15: =IF(J15=0,0,IF(K15=$A$10,0,1)) -> 0 | R15: =Ficha!D31 -> 0 | S15: =Ficha!G31 -> 0
H16: =Ficha!P42 -> 0 | I16: =Ficha!Q42 -> 0 | J16: =Ficha!A32 -> 0 | K16: ='Pericias e Magias'!C16 -> Inteligência | L16: ='Pericias e Magias'!D16 -> 0.5 | M16: =INT(IF(K16=$A$3,Ficha!$B$9,IF(K16=$A$4,Ficha!$B$10,IF(K16=$A$5,Ficha!$B$11,IF(K16=$A$6,Ficha!$B$12,IF(K16=$A$7,Ficha!$B$13,IF(K16=$A$8,Ficha!$B$14,IF(K16=$A$9,Ficha!$B$15,IF(K16=$A$10,Ficha!$B$16,IF(K16=$A$11,Ficha!$B$17,0)))))))))*L16) -> 5 | N16: =Ficha!C32 -> 0 | O16: ='Pericias e Magias'!E16 -> 0 | P16: =IF(J16=0,0,M16+N16+O16) -> 0 | Q16: =IF(J16=0,0,IF(K16=$A$10,0,1)) -> 0 | R16: =Ficha!D32 -> 0 | S16: =Ficha!G32 -> 0
H17: =Ficha!P43 -> 0 | I17: =Ficha!Q43 -> 0 | J17: =Ficha!A33 -> 0 | K17: ='Pericias e Magias'!C17 -> Inteligência | L17: ='Pericias e Magias'!D17 -> 0.5 | M17: =INT(IF(K17=$A$3,Ficha!$B$9,IF(K17=$A$4,Ficha!$B$10,IF(K17=$A$5,Ficha!$B$11,IF(K17=$A$6,Ficha!$B$12,IF(K17=$A$7,Ficha!$B$13,IF(K17=$A$8,Ficha!$B$14,IF(K17=$A$9,Ficha!$B$15,IF(K17=$A$10,Ficha!$B$16,IF(K17=$A$11,Ficha!$B$17,0)))))))))*L17) -> 5 | N17: =Ficha!C33 -> 0 | O17: ='Pericias e Magias'!E17 -> 0 | P17: =IF(J17=0,0,M17+N17+O17) -> 0 | Q17: =IF(J17=0,0,IF(K17=$A$10,0,1)) -> 0 | R17: =Ficha!D33 -> 0 | S17: =Ficha!G33 -> 0
E18: Nivel | H18: =Ficha!P44 -> 0 | I18: =Ficha!Q44 -> 0 | J18: =Ficha!A34 -> 0 | K18: ='Pericias e Magias'!C18 -> Inteligência | L18: ='Pericias e Magias'!D18 -> 0.5 | M18: =INT(IF(K18=$A$3,Ficha!$B$9,IF(K18=$A$4,Ficha!$B$10,IF(K18=$A$5,Ficha!$B$11,IF(K18=$A$6,Ficha!$B$12,IF(K18=$A$7,Ficha!$B$13,IF(K18=$A$8,Ficha!$B$14,IF(K18=$A$9,Ficha!$B$15,IF(K18=$A$10,Ficha!$B$16,IF(K18=$A$11,Ficha!$B$17,0)))))))))*L18) -> 5 | N18: =Ficha!C34 -> 0 | O18: ='Pericias e Magias'!E18 -> 0 | P18: =IF(J18=0,0,M18+N18+O18) -> 0 | Q18: =IF(J18=0,0,IF(K18=$A$10,0,1)) -> 0 | R18: =Ficha!D34 -> 0 | S18: =Ficha!G34 -> 0
D19: Vida Extra | E19: ='Pericias e Magias'!M14 -> 0 | H19: =Ficha!P45 -> 0 | I19: =Ficha!Q45 -> 0 | J19: =Ficha!A35 -> 0 | K19: ='Pericias e Magias'!C19 -> Inteligência | L19: ='Pericias e Magias'!D19 -> 0.5 | M19: =INT(IF(K19=$A$3,Ficha!$B$9,IF(K19=$A$4,Ficha!$B$10,IF(K19=$A$5,Ficha!$B$11,IF(K19=$A$6,Ficha!$B$12,IF(K19=$A$7,Ficha!$B$13,IF(K19=$A$8,Ficha!$B$14,IF(K19=$A$9,Ficha!$B$15,IF(K19=$A$10,Ficha!$B$16,IF(K19=$A$11,Ficha!$B$17,0)))))))))*L19) -> 5 | N19: =Ficha!C35 -> 0 | O19: ='Pericias e Magias'!E19 -> 0 | P19: =IF(J19=0,0,M19+N19+O19) -> 0 | Q19: =IF(J19=0,0,IF(K19=$A$10,0,1)) -> 0 | R19: =Ficha!D35 -> 0 | S19: =Ficha!G35 -> 0
D20: Mana Extra | E20: ='Pericias e Magias'!M15 -> 0 | H20: Soma | I20: =SUM(I3:I19) -> 0 | J20: =Ficha!A36 -> 0 | K20: ='Pericias e Magias'!C20 -> Inteligência | L20: ='Pericias e Magias'!D20 -> 0.5 | M20: =INT(IF(K20=$A$3,Ficha!$B$9,IF(K20=$A$4,Ficha!$B$10,IF(K20=$A$5,Ficha!$B$11,IF(K20=$A$6,Ficha!$B$12,IF(K20=$A$7,Ficha!$B$13,IF(K20=$A$8,Ficha!$B$14,IF(K20=$A$9,Ficha!$B$15,IF(K20=$A$10,Ficha!$B$16,IF(K20=$A$11,Ficha!$B$17,0)))))))))*L20) -> 5 | N20: =Ficha!C36 -> 0 | O20: ='Pericias e Magias'!E20 -> 0 | P20: =IF(J20=0,0,M20+N20+O20) -> 0 | Q20: =IF(J20=0,0,IF(K20=$A$10,0,1)) -> 0 | R20: =Ficha!D36 -> 0 | S20: =Ficha!G36 -> 0
D21: Fadiga Extra | E21: ='Pericias e Magias'!M16 -> 0 | J21: =Ficha!A37 -> 0 | K21: ='Pericias e Magias'!C21 -> Inteligência | L21: ='Pericias e Magias'!D21 -> 0.5 | M21: =INT(IF(K21=$A$3,Ficha!$B$9,IF(K21=$A$4,Ficha!$B$10,IF(K21=$A$5,Ficha!$B$11,IF(K21=$A$6,Ficha!$B$12,IF(K21=$A$7,Ficha!$B$13,IF(K21=$A$8,Ficha!$B$14,IF(K21=$A$9,Ficha!$B$15,IF(K21=$A$10,Ficha!$B$16,IF(K21=$A$11,Ficha!$B$17,0)))))))))*L21) -> 5 | N21: =Ficha!C37 -> 0 | O21: ='Pericias e Magias'!E21 -> 0 | P21: =IF(J21=0,0,M21+N21+O21) -> 0 | Q21: =IF(J21=0,0,IF(K21=$A$10,0,1)) -> 0 | R21: =Ficha!D37 -> 0 | S21: =Ficha!G37 -> 0
J22: =Ficha!A38 -> 0 | K22: ='Pericias e Magias'!C22 -> Inteligência | L22: ='Pericias e Magias'!D22 -> 0.5 | M22: =INT(IF(K22=$A$3,Ficha!$B$9,IF(K22=$A$4,Ficha!$B$10,IF(K22=$A$5,Ficha!$B$11,IF(K22=$A$6,Ficha!$B$12,IF(K22=$A$7,Ficha!$B$13,IF(K22=$A$8,Ficha!$B$14,IF(K22=$A$9,Ficha!$B$15,IF(K22=$A$10,Ficha!$B$16,IF(K22=$A$11,Ficha!$B$17,0)))))))))*L22) -> 5 | N22: =Ficha!C38 -> 0 | O22: ='Pericias e Magias'!E22 -> 0 | P22: =IF(J22=0,0,M22+N22+O22) -> 0 | Q22: =IF(J22=0,0,IF(K22=$A$10,0,1)) -> 0 | R22: =Ficha!D38 -> 0 | S22: =Ficha!G38 -> 0
A23: Conhecimento | B23: Atributo | C23: Base | D23: Exp | E23: Bonus | F23: Total | J23: =Ficha!A39 -> 0 | K23: ='Pericias e Magias'!C23 -> Inteligência | L23: ='Pericias e Magias'!D23 -> 0.5 | M23: =INT(IF(K23=$A$3,Ficha!$B$9,IF(K23=$A$4,Ficha!$B$10,IF(K23=$A$5,Ficha!$B$11,IF(K23=$A$6,Ficha!$B$12,IF(K23=$A$7,Ficha!$B$13,IF(K23=$A$8,Ficha!$B$14,IF(K23=$A$9,Ficha!$B$15,IF(K23=$A$10,Ficha!$B$16,IF(K23=$A$11,Ficha!$B$17,0)))))))))*L23) -> 5 | N23: =Ficha!C39 -> 0 | O23: ='Pericias e Magias'!E23 -> 0 | P23: =IF(J23=0,0,M23+N23+O23) -> 0 | Q23: =IF(J23=0,0,IF(K23=$A$10,0,1)) -> 0 | R23: =Ficha!D39 -> 0 | S23: =Ficha!G39 -> 0
A24: =Ficha!I19 -> 0 | B24: ='Pericias e Magias'!M3 -> Inteligência | C24: =INT(IF(B24=$A$3,Ficha!B9,IF(B24=$A$4,Ficha!$B$10,IF(B24=$A$5,Ficha!$B$11,IF(B24=$A$6,Ficha!$B$12,IF(B24=$A$7,Ficha!$B$13,IF(B24=$A$8,Ficha!$B$14,IF(B24=$A$9,Ficha!$B$15,IF(B24=$A$10,Ficha!$B$16,IF(B24=$A$11,Ficha!$B$17,0)))))))))) -> 10 | D24: =Ficha!K19 -> 0 | E24: ='Pericias e Magias'!N3 -> 0 | F24: =IF(A24=0,0,C24+D24+E24) -> 0 | J24: =Ficha!A40 -> 0 | K24: ='Pericias e Magias'!C24 -> Inteligência | L24: ='Pericias e Magias'!D24 -> 0.5 | M24: =INT(IF(K24=$A$3,Ficha!$B$9,IF(K24=$A$4,Ficha!$B$10,IF(K24=$A$5,Ficha!$B$11,IF(K24=$A$6,Ficha!$B$12,IF(K24=$A$7,Ficha!$B$13,IF(K24=$A$8,Ficha!$B$14,IF(K24=$A$9,Ficha!$B$15,IF(K24=$A$10,Ficha!$B$16,IF(K24=$A$11,Ficha!$B$17,0)))))))))*L24) -> 5 | N24: =Ficha!C40 -> 0 | O24: ='Pericias e Magias'!E24 -> 0 | P24: =IF(J24=0,0,M24+N24+O24) -> 0 | Q24: =IF(J24=0,0,IF(K24=$A$10,0,1)) -> 0 | R24: =Ficha!D40 -> 0 | S24: =Ficha!G40 -> 0
A25: =Ficha!I20 -> 0 | B25: ='Pericias e Magias'!M4 -> Inteligência | C25: =INT(IF(B25=$A$3,Ficha!$B$9,IF(B25=$A$4,Ficha!$B$10,IF(B25=$A$5,Ficha!$B$11,IF(B25=$A$6,Ficha!$B$12,IF(B25=$A$7,Ficha!$B$13,IF(B25=$A$8,Ficha!$B$14,IF(B25=$A$9,Ficha!$B$15,IF(B25=$A$10,Ficha!$B$16,IF(B25=$A$11,Ficha!$B$17,0)))))))))) -> 10 | D25: =Ficha!K20 -> 0 | E25: ='Pericias e Magias'!N4 -> 0 | F25: =IF(A25=0,0,C25+D25+E25) -> 0 | J25: =Ficha!A41 -> 0 | K25: ='Pericias e Magias'!C25 -> Inteligência | L25: ='Pericias e Magias'!D25 -> 0.5 | M25: =INT(IF(K25=$A$3,Ficha!$B$9,IF(K25=$A$4,Ficha!$B$10,IF(K25=$A$5,Ficha!$B$11,IF(K25=$A$6,Ficha!$B$12,IF(K25=$A$7,Ficha!$B$13,IF(K25=$A$8,Ficha!$B$14,IF(K25=$A$9,Ficha!$B$15,IF(K25=$A$10,Ficha!$B$16,IF(K25=$A$11,Ficha!$B$17,0)))))))))*L25) -> 5 | N25: =Ficha!C41 -> 0 | O25: ='Pericias e Magias'!E25 -> 0 | P25: =IF(J25=0,0,M25+N25+O25) -> 0 | Q25: =IF(J25=0,0,IF(K25=$A$10,0,1)) -> 0 | R25: =Ficha!D41 -> 0 | S25: =Ficha!G41 -> 0
A26: =Ficha!I21 -> 0 | B26: ='Pericias e Magias'!M5 -> Inteligência | C26: =INT(IF(B26=$A$3,Ficha!$B$9,IF(B26=$A$4,Ficha!$B$10,IF(B26=$A$5,Ficha!$B$11,IF(B26=$A$6,Ficha!$B$12,IF(B26=$A$7,Ficha!$B$13,IF(B26=$A$8,Ficha!$B$14,IF(B26=$A$9,Ficha!$B$15,IF(B26=$A$10,Ficha!$B$16,IF(B26=$A$11,Ficha!$B$17,0)))))))))) -> 10 | D26: =Ficha!K21 -> 0 | E26: ='Pericias e Magias'!N5 -> 0 | F26: =IF(A26=0,0,C26+D26+E26) -> 0 | J26: =Ficha!A42 -> 0 | K26: ='Pericias e Magias'!C26 -> Inteligência | L26: ='Pericias e Magias'!D26 -> 0.5 | M26: =INT(IF(K26=$A$3,Ficha!$B$9,IF(K26=$A$4,Ficha!$B$10,IF(K26=$A$5,Ficha!$B$11,IF(K26=$A$6,Ficha!$B$12,IF(K26=$A$7,Ficha!$B$13,IF(K26=$A$8,Ficha!$B$14,IF(K26=$A$9,Ficha!$B$15,IF(K26=$A$10,Ficha!$B$16,IF(K26=$A$11,Ficha!$B$17,0)))))))))*L26) -> 5 | N26: =Ficha!C42 -> 0 | O26: ='Pericias e Magias'!E26 -> 0 | P26: =IF(J26=0,0,M26+N26+O26) -> 0 | Q26: =IF(J26=0,0,IF(K26=$A$10,0,1)) -> 0 | R26: =Ficha!D42 -> 0 | S26: =Ficha!G42 -> 0
A27: =Ficha!I22 -> 0 | B27: ='Pericias e Magias'!M6 -> Inteligência | C27: =INT(IF(B27=$A$3,Ficha!$B$9,IF(B27=$A$4,Ficha!$B$10,IF(B27=$A$5,Ficha!$B$11,IF(B27=$A$6,Ficha!$B$12,IF(B27=$A$7,Ficha!$B$13,IF(B27=$A$8,Ficha!$B$14,IF(B27=$A$9,Ficha!$B$15,IF(B27=$A$10,Ficha!$B$16,IF(B27=$A$11,Ficha!$B$17,0)))))))))) -> 10 | D27: =Ficha!K22 -> 0 | E27: ='Pericias e Magias'!N6 -> 0 | F27: =IF(A27=0,0,C27+D27+E27) -> 0 | J27: =Ficha!A43 -> 0 | K27: ='Pericias e Magias'!C27 -> Inteligência | L27: ='Pericias e Magias'!D27 -> 0.5 | M27: =INT(IF(K27=$A$3,Ficha!$B$9,IF(K27=$A$4,Ficha!$B$10,IF(K27=$A$5,Ficha!$B$11,IF(K27=$A$6,Ficha!$B$12,IF(K27=$A$7,Ficha!$B$13,IF(K27=$A$8,Ficha!$B$14,IF(K27=$A$9,Ficha!$B$15,IF(K27=$A$10,Ficha!$B$16,IF(K27=$A$11,Ficha!$B$17,0)))))))))*L27) -> 5 | N27: =Ficha!C43 -> 0 | O27: ='Pericias e Magias'!E27 -> 0 | P27: =IF(J27=0,0,M27+N27+O27) -> 0 | Q27: =IF(J27=0,0,IF(K27=$A$10,0,1)) -> 0 | R27: =Ficha!D43 -> 0 | S27: =Ficha!G43 -> 0
A28: =Ficha!I23 -> 0 | B28: ='Pericias e Magias'!M7 -> Inteligência | C28: =INT(IF(B28=$A$3,Ficha!$B$9,IF(B28=$A$4,Ficha!$B$10,IF(B28=$A$5,Ficha!$B$11,IF(B28=$A$6,Ficha!$B$12,IF(B28=$A$7,Ficha!$B$13,IF(B28=$A$8,Ficha!$B$14,IF(B28=$A$9,Ficha!$B$15,IF(B28=$A$10,Ficha!$B$16,IF(B28=$A$11,Ficha!$B$17,0)))))))))) -> 10 | D28: =Ficha!K23 -> 0 | E28: ='Pericias e Magias'!N7 -> 0 | F28: =IF(A28=0,0,C28+D28+E28) -> 0 | J28: =Ficha!A44 -> 0 | K28: ='Pericias e Magias'!C28 -> Inteligência | L28: ='Pericias e Magias'!D28 -> 0.5 | M28: =INT(IF(K28=$A$3,Ficha!$B$9,IF(K28=$A$4,Ficha!$B$10,IF(K28=$A$5,Ficha!$B$11,IF(K28=$A$6,Ficha!$B$12,IF(K28=$A$7,Ficha!$B$13,IF(K28=$A$8,Ficha!$B$14,IF(K28=$A$9,Ficha!$B$15,IF(K28=$A$10,Ficha!$B$16,IF(K28=$A$11,Ficha!$B$17,0)))))))))*L28) -> 5 | N28: =Ficha!C44 -> 0 | O28: ='Pericias e Magias'!E28 -> 0 | P28: =IF(J28=0,0,M28+N28+O28) -> 0 | Q28: =IF(J28=0,0,IF(K28=$A$10,0,1)) -> 0 | R28: =Ficha!D44 -> 0 | S28: =Ficha!G44 -> 0
A29: =Ficha!I24 -> 0 | B29: ='Pericias e Magias'!M8 -> Inteligência | C29: =INT(IF(B29=$A$3,Ficha!$B$9,IF(B29=$A$4,Ficha!$B$10,IF(B29=$A$5,Ficha!$B$11,IF(B29=$A$6,Ficha!$B$12,IF(B29=$A$7,Ficha!$B$13,IF(B29=$A$8,Ficha!$B$14,IF(B29=$A$9,Ficha!$B$15,IF(B29=$A$10,Ficha!$B$16,IF(B29=$A$11,Ficha!$B$17,0)))))))))) -> 10 | D29: =Ficha!K24 -> 0 | E29: ='Pericias e Magias'!N8 -> 0 | F29: =IF(A29=0,0,C29+D29+E29) -> 0 | N29: =SUM(N3:N28) -> 0 | Q29: =SUM(Q3:Q28) -> 0 | S29: =SUM(S3:S28) -> 0
A30: =Ficha!I25 -> 0 | B30: ='Pericias e Magias'!M9 -> Inteligência | C30: =INT(IF(B30=$A$3,Ficha!$B$9,IF(B30=$A$4,Ficha!$B$10,IF(B30=$A$5,Ficha!$B$11,IF(B30=$A$6,Ficha!$B$12,IF(B30=$A$7,Ficha!$B$13,IF(B30=$A$8,Ficha!$B$14,IF(B30=$A$9,Ficha!$B$15,IF(B30=$A$10,Ficha!$B$16,IF(B30=$A$11,Ficha!$B$17,0)))))))))) -> 10 | D30: =Ficha!K25 -> 0 | E30: ='Pericias e Magias'!N9 -> 0 | F30: =IF(A30=0,0,C30+D30+E30) -> 0
A31: =Ficha!I26 -> 0 | B31: ='Pericias e Magias'!M10 -> Inteligência | C31: =INT(IF(B31=$A$3,Ficha!$B$9,IF(B31=$A$4,Ficha!$B$10,IF(B31=$A$5,Ficha!$B$11,IF(B31=$A$6,Ficha!$B$12,IF(B31=$A$7,Ficha!$B$13,IF(B31=$A$8,Ficha!$B$14,IF(B31=$A$9,Ficha!$B$15,IF(B31=$A$10,Ficha!$B$16,IF(B31=$A$11,Ficha!$B$17,0)))))))))) -> 10 | D31: =Ficha!K26 -> 0 | E31: ='Pericias e Magias'!N10 -> 0 | F31: =IF(A31=0,0,C31+D31+E31) -> 0
A32: =Ficha!I27 -> 0 | B32: ='Pericias e Magias'!M11 -> Inteligência | C32: =INT(IF(B32=$A$3,Ficha!$B$9,IF(B32=$A$4,Ficha!$B$10,IF(B32=$A$5,Ficha!$B$11,IF(B32=$A$6,Ficha!$B$12,IF(B32=$A$7,Ficha!$B$13,IF(B32=$A$8,Ficha!$B$14,IF(B32=$A$9,Ficha!$B$15,IF(B32=$A$10,Ficha!$B$16,IF(B32=$A$11,Ficha!$B$17,0)))))))))) -> 10 | D32: =Ficha!K27 -> 0 | E32: ='Pericias e Magias'!N11 -> 0 | F32: =IF(A32=0,0,C32+D32+E32) -> 0
D33: =SUM(D24:D32) -> 0 | J33: Magias | K33: Atributo | L33: Metade/Inteiro | M33: Base | N33: Exp | O33: Bonus | P33: Total | Q33: Custo Base | R33: Especialização | S33: Pontos
J34: =Ficha!P2 -> 0 | K34: ='Pericias e Magias'!H3 -> Inteligência | L34: ='Pericias e Magias'!I3 -> 0.5 | M34: =INT(IF(K34=$A$3,Ficha!$B$9,IF(K34=$A$4,Ficha!$B$10,IF(K34=$A$5,Ficha!$B$11,IF(K34=$A$6,Ficha!$B$12,IF(K34=$A$7,Ficha!$B$13,IF(K34=$A$8,Ficha!$B$14,IF(K34=$A$9,Ficha!$B$15,IF(K34=$A$10,Ficha!$B$16,IF(K34=$A$11,Ficha!$B$17,0)))))))))*L34) -> 5 | N34: =Ficha!R2 -> 0 | O34: ='Pericias e Magias'!J3 -> 0 | P34: =IF(J34=0,0,M34+N34+O34) -> 0 | Q34: =IF(J34=0,0,IF(K34=$A$10,0,1)) -> 0 | R34: =Ficha!S2 -> 0 | S34: =Ficha!U2 -> 0
J35: =Ficha!P3 -> 0 | K35: ='Pericias e Magias'!H4 -> Inteligência | L35: ='Pericias e Magias'!I4 -> 0.5 | M35: =INT(IF(K35=$A$3,Ficha!$B$9,IF(K35=$A$4,Ficha!$B$10,IF(K35=$A$5,Ficha!$B$11,IF(K35=$A$6,Ficha!$B$12,IF(K35=$A$7,Ficha!$B$13,IF(K35=$A$8,Ficha!$B$14,IF(K35=$A$9,Ficha!$B$15,IF(K35=$A$10,Ficha!$B$16,IF(K35=$A$11,Ficha!$B$17,0)))))))))*L35) -> 5 | N35: =Ficha!R3 -> 0 | O35: ='Pericias e Magias'!J4 -> 0 | P35: =IF(J35=0,0,M35+N35+O35) -> 0 | Q35: =IF(J35=0,0,IF(K35=$A$10,0,1)) -> 0 | R35: =Ficha!S3 -> 0 | S35: =Ficha!U3 -> 0
J36: =Ficha!P4 -> 0 | K36: ='Pericias e Magias'!H5 -> Inteligência | L36: ='Pericias e Magias'!I5 -> 0.5 | M36: =INT(IF(K36=$A$3,Ficha!$B$9,IF(K36=$A$4,Ficha!$B$10,IF(K36=$A$5,Ficha!$B$11,IF(K36=$A$6,Ficha!$B$12,IF(K36=$A$7,Ficha!$B$13,IF(K36=$A$8,Ficha!$B$14,IF(K36=$A$9,Ficha!$B$15,IF(K36=$A$10,Ficha!$B$16,IF(K36=$A$11,Ficha!$B$17,0)))))))))*L36) -> 5 | N36: =Ficha!R4 -> 0 | O36: ='Pericias e Magias'!J5 -> 0 | P36: =IF(J36=0,0,M36+N36+O36) -> 0 | Q36: =IF(J36=0,0,IF(K36=$A$10,0,1)) -> 0 | R36: =Ficha!S4 -> 0 | S36: =Ficha!U4 -> 0
J37: =Ficha!P5 -> 0 | K37: ='Pericias e Magias'!H6 -> Inteligência | L37: ='Pericias e Magias'!I6 -> 0.5 | M37: =INT(IF(K37=$A$3,Ficha!$B$9,IF(K37=$A$4,Ficha!$B$10,IF(K37=$A$5,Ficha!$B$11,IF(K37=$A$6,Ficha!$B$12,IF(K37=$A$7,Ficha!$B$13,IF(K37=$A$8,Ficha!$B$14,IF(K37=$A$9,Ficha!$B$15,IF(K37=$A$10,Ficha!$B$16,IF(K37=$A$11,Ficha!$B$17,0)))))))))*L37) -> 5 | N37: =Ficha!R5 -> 0 | O37: ='Pericias e Magias'!J6 -> 0 | P37: =IF(J37=0,0,M37+N37+O37) -> 0 | Q37: =IF(J37=0,0,IF(K37=$A$10,0,1)) -> 0 | R37: =Ficha!S5 -> 0 | S37: =Ficha!U5 -> 0
J38: =Ficha!P6 -> 0 | K38: ='Pericias e Magias'!H7 -> Inteligência | L38: ='Pericias e Magias'!I7 -> 0.5 | M38: =INT(IF(K38=$A$3,Ficha!$B$9,IF(K38=$A$4,Ficha!$B$10,IF(K38=$A$5,Ficha!$B$11,IF(K38=$A$6,Ficha!$B$12,IF(K38=$A$7,Ficha!$B$13,IF(K38=$A$8,Ficha!$B$14,IF(K38=$A$9,Ficha!$B$15,IF(K38=$A$10,Ficha!$B$16,IF(K38=$A$11,Ficha!$B$17,0)))))))))*L38) -> 5 | N38: =Ficha!R6 -> 0 | O38: ='Pericias e Magias'!J7 -> 0 | P38: =IF(J38=0,0,M38+N38+O38) -> 0 | Q38: =IF(J38=0,0,IF(K38=$A$10,0,1)) -> 0 | R38: =Ficha!S6 -> 0 | S38: =Ficha!U6 -> 0
J39: =Ficha!P7 -> 0 | K39: ='Pericias e Magias'!H8 -> Inteligência | L39: ='Pericias e Magias'!I8 -> 0.5 | M39: =INT(IF(K39=$A$3,Ficha!$B$9,IF(K39=$A$4,Ficha!$B$10,IF(K39=$A$5,Ficha!$B$11,IF(K39=$A$6,Ficha!$B$12,IF(K39=$A$7,Ficha!$B$13,IF(K39=$A$8,Ficha!$B$14,IF(K39=$A$9,Ficha!$B$15,IF(K39=$A$10,Ficha!$B$16,IF(K39=$A$11,Ficha!$B$17,0)))))))))*L39) -> 5 | N39: =Ficha!R7 -> 0 | O39: ='Pericias e Magias'!J8 -> 0 | P39: =IF(J39=0,0,M39+N39+O39) -> 0 | Q39: =IF(J39=0,0,IF(K39=$A$10,0,1)) -> 0 | R39: =Ficha!S7 -> 0 | S39: =Ficha!U7 -> 0
J40: =Ficha!P8 -> 0 | K40: ='Pericias e Magias'!H9 -> Inteligência | L40: ='Pericias e Magias'!I9 -> 0.5 | M40: =INT(IF(K40=$A$3,Ficha!$B$9,IF(K40=$A$4,Ficha!$B$10,IF(K40=$A$5,Ficha!$B$11,IF(K40=$A$6,Ficha!$B$12,IF(K40=$A$7,Ficha!$B$13,IF(K40=$A$8,Ficha!$B$14,IF(K40=$A$9,Ficha!$B$15,IF(K40=$A$10,Ficha!$B$16,IF(K40=$A$11,Ficha!$B$17,0)))))))))*L40) -> 5 | N40: =Ficha!R8 -> 0 | O40: ='Pericias e Magias'!J9 -> 0 | P40: =IF(J40=0,0,M40+N40+O40) -> 0 | Q40: =IF(J40=0,0,IF(K40=$A$10,0,1)) -> 0 | R40: =Ficha!S8 -> 0 | S40: =Ficha!U8 -> 0
J41: =Ficha!P9 -> 0 | K41: ='Pericias e Magias'!H10 -> Inteligência | L41: ='Pericias e Magias'!I10 -> 0.5 | M41: =INT(IF(K41=$A$3,Ficha!$B$9,IF(K41=$A$4,Ficha!$B$10,IF(K41=$A$5,Ficha!$B$11,IF(K41=$A$6,Ficha!$B$12,IF(K41=$A$7,Ficha!$B$13,IF(K41=$A$8,Ficha!$B$14,IF(K41=$A$9,Ficha!$B$15,IF(K41=$A$10,Ficha!$B$16,IF(K41=$A$11,Ficha!$B$17,0)))))))))*L41) -> 5 | N41: =Ficha!R9 -> 0 | O41: ='Pericias e Magias'!J10 -> 0 | P41: =IF(J41=0,0,M41+N41+O41) -> 0 | Q41: =IF(J41=0,0,IF(K41=$A$10,0,1)) -> 0 | R41: =Ficha!S9 -> 0 | S41: =Ficha!U9 -> 0
...
